BEGIN:VCALENDAR
VERSION:2.0
PRODID:-//1ST SUMMIT ARENA @ Cambria County War Memorial - ECPv6.15.20//NONSGML v1.0//EN
CALSCALE:GREGORIAN
METHOD:PUBLISH
X-WR-CALNAME:1ST SUMMIT ARENA @ Cambria County War Memorial
X-ORIGINAL-URL:https://1stsummitarena.com
X-WR-CALDESC:Events for 1ST SUMMIT ARENA @ Cambria County War Memorial
REFRESH-INTERVAL;VALUE=DURATION:PT1H
X-Robots-Tag:noindex
X-PUBLISHED-TTL:PT1H
BEGIN:VTIMEZONE
TZID:America/Detroit
BEGIN:DAYLIGHT
TZOFFSETFROM:-0500
TZOFFSETTO:-0400
TZNAME:EDT
DTSTART:20180311T070000
END:DAYLIGHT
BEGIN:STANDARD
TZOFFSETFROM:-0400
TZOFFSETTO:-0500
TZNAME:EST
DTSTART:20181104T060000
END:STANDARD
BEGIN:DAYLIGHT
TZOFFSETFROM:-0500
TZOFFSETTO:-0400
TZNAME:EDT
DTSTART:20190310T070000
END:DAYLIGHT
BEGIN:STANDARD
TZOFFSETFROM:-0400
TZOFFSETTO:-0500
TZNAME:EST
DTSTART:20191103T060000
END:STANDARD
BEGIN:DAYLIGHT
TZOFFSETFROM:-0500
TZOFFSETTO:-0400
TZNAME:EDT
DTSTART:20200308T070000
END:DAYLIGHT
BEGIN:STANDARD
TZOFFSETFROM:-0400
TZOFFSETTO:-0500
TZNAME:EST
DTSTART:20201101T060000
END:STANDARD
END:VTIMEZONE
BEGIN:VTIMEZONE
TZID:America/New_York
BEGIN:DAYLIGHT
TZOFFSETFROM:-0500
TZOFFSETTO:-0400
TZNAME:EDT
DTSTART:20180311T070000
END:DAYLIGHT
BEGIN:STANDARD
TZOFFSETFROM:-0400
TZOFFSETTO:-0500
TZNAME:EST
DTSTART:20181104T060000
END:STANDARD
BEGIN:DAYLIGHT
TZOFFSETFROM:-0500
TZOFFSETTO:-0400
TZNAME:EDT
DTSTART:20190310T070000
END:DAYLIGHT
BEGIN:STANDARD
TZOFFSETFROM:-0400
TZOFFSETTO:-0500
TZNAME:EST
DTSTART:20191103T060000
END:STANDARD
BEGIN:DAYLIGHT
TZOFFSETFROM:-0500
TZOFFSETTO:-0400
TZNAME:EDT
DTSTART:20200308T070000
END:DAYLIGHT
BEGIN:STANDARD
TZOFFSETFROM:-0400
TZOFFSETTO:-0500
TZNAME:EST
DTSTART:20201101T060000
END:STANDARD
END:VTIMEZONE
BEGIN:VEVENT
DTSTART;TZID=America/Detroit:20190514T180000
DTEND;TZID=America/Detroit:20190515T200000
DTSTAMP:20260425T213823
CREATED:20190108T164035Z
LAST-MODIFIED:20190108T164035Z
UID:9159-1557856800-1557950400@1stsummitarena.com
SUMMARY:PAW Patrol Live! "Race to the Rescue"
DESCRIPTION:PAW Patrol Live! is on a roll with its hit live tour! \n*tickets go on sale January 18! \nCome roll with the PAW Patrol as everybody’s favorite heroic pups race to the rescue on the day of the Great Adventure Bay Race.  When Mayor Goodway goes missing\, Chase\, Marshall\, Skye and the rest of the PAW Patrol will need to team up with Ryder to save Adventure Bay’s mayor and stop Foggy Bottom’s Mayor Humdinger from winning the race. \nBe a V.I.P. – Very Important Pup!  \nThe V.I.P. package includes a premium seat\, special gift and exclusive access to a Meet & Greet with three characters after the show. Each adult & child (aged 1 & up) must have a V.I.P. ticket. \nShowtimes\n\n\n\n5/14/19\nBuy Tickets\n\n\nShowtime: 6:00 pm\nDoors open: 5:00 pm\n\n\n\n  \n\n\n\n5/15/19\nBuy Tickets\n\n\nShowtime: 10:00 am\nDoors open: 9:00 am\n\n\n\n  \n\n\n\n5/15/19\nBuy Tickets\n\n\nShowtime: 6:00 pm\nDoors open: 5:00 pm\n\n\n\n 
URL:https://1stsummitarena.com/event/paw-patrol-live-19/
CATEGORIES:Entertainment
ATTACH;FMTTYPE=:
END:VEVENT
BEGIN:VEVENT
DTSTART;VALUE=DATE:20190802
DTEND;VALUE=DATE:20190804
DTSTAMP:20260425T213823
CREATED:20190404T134907Z
LAST-MODIFIED:20190404T134907Z
UID:9626-1564704000-1564876799@1stsummitarena.com
SUMMARY:2019 AmeriServ Flood City Music Festival
DESCRIPTION:[vc_row][vc_column][vc_row_inner][vc_column_inner][vc_single_image image=”9642″ img_size=”full” alignment=”center” fullwidth_image=”true”][/vc_column_inner][/vc_row_inner][vc_row_inner][vc_column_inner][vc_column_text]The AmeriServ Flood City Music Festival is a celebration of American music attracting thousands of enthusiastic music fans to Johnstown\, PA every summer! \nEarly Bird Discounts are available now on all 2-Day Tickets and 2-Day VIP Tickets. 2-Day tickets are just $40 (regular $50) and 2-day VIP tickets are only $55 (regular $65). \nTickets are available online with Ticketmaster at www.1stSummitArena.com/go/AmeriServFCMF and in-person at the 1ST SUMMIT ARENA Box Office. \nVIP Tickets give you access to flush bathrooms\, full service bar\, VIP lounge\, exclusive main stage seating\, and more! \nPerformers include Gin Blossoms\, Cowboy Mouth\, Ghost Light\, Brownout Presents: Brown Sabbath\, Dale Watson\, Red Baraat\, Bill Kirchen\, Davina & The Vagabonds\, Sue Foley Band\, National Park Radio\, The Plate Scrapers\, Adler & Barath Blues Band\, Essential Machine\, Jeff Perigo & Friends\, Elias Khouri\, Afro N’At\, and Jeff Webb & The Delectable Sound.[/vc_column_text][/vc_column_inner][/vc_row_inner][vc_single_image image=”9632″ img_size=”full” fullwidth_image=”true”][vc_column_text] \nFeaturing headlining act Gin Blossoms\n[/vc_column_text][vc_row_inner][vc_column_inner width=”1/3″][vc_single_image image=”9637″ img_size=”full” fullwidth_image=”true”][vc_column_text] \nCowboy Mouth \n[/vc_column_text][vc_single_image image=”9638″ img_size=”full” fullwidth_image=”true”][vc_column_text] \nDale Watson \n[/vc_column_text][vc_single_image image=”9640″ img_size=”full” fullwidth_image=”true”][vc_column_text] \nDavina & The Vagabonds \n[/vc_column_text][vc_single_image image=”9651″ img_size=”full” fullwidth_image=”true”][vc_column_text] \nJeff Perigo & Friends \n[/vc_column_text][vc_single_image image=”9648″ img_size=”full” fullwidth_image=”true”][vc_column_text] \nThe Plate Scrapers \n[/vc_column_text][/vc_column_inner][vc_column_inner width=”1/3″][vc_single_image image=”9643″ img_size=”full” fullwidth_image=”true”][vc_column_text] \nGhost Light \n[/vc_column_text][vc_single_image image=”9646″ img_size=”full” fullwidth_image=”true”][vc_column_text] \nRed Baraat \n[/vc_column_text][vc_single_image image=”9649″ img_size=”full” fullwidth_image=”true”][vc_column_text] \nSue Foley Band \n[/vc_column_text][vc_single_image image=”9650″ img_size=”full” fullwidth_image=”true”][vc_column_text] \nAdler & Barath Blues Band \n[/vc_column_text][vc_single_image image=”9652″ img_size=”full” fullwidth_image=”true”][vc_column_text] \nElias Khouri \n[/vc_column_text][/vc_column_inner][vc_column_inner width=”1/3″][vc_single_image image=”9636″ img_size=”full” fullwidth_image=”true”][vc_column_text] \nBrownout presents Brown Sabbath \n[/vc_column_text][vc_single_image image=”9635″ img_size=”full” fullwidth_image=”true”][vc_column_text] \nBill Kirchen \n[/vc_column_text][vc_single_image image=”9645″ img_size=”full” fullwidth_image=”true”][vc_column_text] \nNational Park Radio \n[/vc_column_text][vc_single_image image=”9641″ img_size=”full” fullwidth_image=”true”][vc_column_text] \nEssential Machine \n[/vc_column_text][vc_single_image image=”9653″ img_size=”full” fullwidth_image=”true”][vc_column_text] \nJeff Webb & The Delectable Sound \n[/vc_column_text][/vc_column_inner][/vc_row_inner][/vc_column][/vc_row]
URL:https://1stsummitarena.com/event/2019-ameriserv-flood-city-music-festival/
CATEGORIES:Entertainment,Food and Drink,Music
END:VEVENT
BEGIN:VEVENT
DTSTART;TZID=America/Detroit:20191023T000000
DTEND;TZID=America/Detroit:20191024T235900
DTSTAMP:20260425T213823
CREATED:20190604T175515Z
LAST-MODIFIED:20190604T175515Z
UID:9750-1571788800-1571961540@1stsummitarena.com
SUMMARY:Sesame Street Live!
DESCRIPTION:[vc_row][vc_column][vc_column_text]Join your favorite Sesame Street friends on this magical adventure when Sesame Street Live! Make Your Magic comes to 1ST SUMMIT ARENA @ Cambria County War Memorial. \nEver dream of taking a stroll down one of the most recognizable streets in the world? During the Sesame Street Live! pre-show experience\, you can visit some of your favorite furry friends right in their neighborhood!  At this unique\, up-close-and-personal\, on-stage experience before the show\, Elmo\, Cookie Monster\, Abby and Oscar take turns visiting with you from the windows (or trash can) of their homes on Sesame Street.  Your family will have the opportunity to pick up a few baking tips from Cookie Monster\, create magic spells with Abby\, learn some dance steps with Elmo\, or sing along with Oscar.  The fun doesn’t end there! A variety of interactive activities give your children the chance to create\, discover\, and learn as they help decorate for the upcoming party featured in Sesame Street Live! Let’s Party! They may even see their artwork displayed onstage during the show!  Hurry! Don’t let this amazing experience fly by! To ensure the best experience for everyone\, space is very limited.  PRE-SHOW EXPERIENCE PASS MUST BE ACCOMPANIED BY EVENT TICKET.  AGES 1 AND UP REQUIRE A TICKET.  CHILDREN MUST BE ACCOMPANIED BY AN ADULT. \n  \n\n\n\n10/23/19\nBuy Tickets\n\n\nShowtime: 5:30 pm\nDoors open: 4:30 pm\n\n\n\n  \n\n\n\n10/24/19\nBuy Tickets\n\n\nShowtime: 5:30 pm\nDoors open: 4:30 pm\n\n\n\n[/vc_column_text][/vc_column][/vc_row][vc_row][vc_column][vc_single_image image=”9754″ img_size=”full” fullwidth_image=”true”][vc_single_image image=”9753″ img_size=”full” fullwidth_image=”true”][/vc_column][/vc_row][vc_row][vc_column][/vc_column][/vc_row][vc_row][vc_column][/vc_column][/vc_row]
URL:https://1stsummitarena.com/event/sesame-street-live-make-your-magic/
CATEGORIES:Entertainment
ATTACH;FMTTYPE=:
END:VEVENT
END:VCALENDAR