BEGIN:VCALENDAR
VERSION:2.0
PRODID:-//1ST SUMMIT ARENA @ Cambria County War Memorial - ECPv6.15.20//NONSGML v1.0//EN
CALSCALE:GREGORIAN
METHOD:PUBLISH
X-ORIGINAL-URL:https://1stsummitarena.com
X-WR-CALDESC:Events for 1ST SUMMIT ARENA @ Cambria County War Memorial
REFRESH-INTERVAL;VALUE=DURATION:PT1H
X-Robots-Tag:noindex
X-PUBLISHED-TTL:PT1H
BEGIN:VTIMEZONE
TZID:America/Detroit
BEGIN:DAYLIGHT
TZOFFSETFROM:-0500
TZOFFSETTO:-0400
TZNAME:EDT
DTSTART:20170312T070000
END:DAYLIGHT
BEGIN:STANDARD
TZOFFSETFROM:-0400
TZOFFSETTO:-0500
TZNAME:EST
DTSTART:20171105T060000
END:STANDARD
BEGIN:DAYLIGHT
TZOFFSETFROM:-0500
TZOFFSETTO:-0400
TZNAME:EDT
DTSTART:20180311T070000
END:DAYLIGHT
BEGIN:STANDARD
TZOFFSETFROM:-0400
TZOFFSETTO:-0500
TZNAME:EST
DTSTART:20181104T060000
END:STANDARD
BEGIN:DAYLIGHT
TZOFFSETFROM:-0500
TZOFFSETTO:-0400
TZNAME:EDT
DTSTART:20190310T070000
END:DAYLIGHT
BEGIN:STANDARD
TZOFFSETFROM:-0400
TZOFFSETTO:-0500
TZNAME:EST
DTSTART:20191103T060000
END:STANDARD
END:VTIMEZONE
BEGIN:VEVENT
DTSTART;TZID=America/Detroit:20180526T160000
DTEND;TZID=America/Detroit:20180526T200000
DTSTAMP:20260420T085813
CREATED:20180504T133117Z
LAST-MODIFIED:20180504T133117Z
UID:7737-1527350400-1527364800@1stsummitarena.com
SUMMARY:Taste & Tour Rediscover Downtown
DESCRIPTION:This annual event is a showcase of what our downtown businesses have to offer the Greater Johnstown community. From the delicious restaurants and thirst-quenching bars\, to the destination shopping and specialty retail stores\, all open their doors on a Saturday night and proudly showcase the great variety that Downtown Johnstown has to offer. \nHow the event works:\nTickets are sold to event participants at $30 per person. Tickets can be purchased online through Eventbrite. https://www.eventbrite.com/e/taste-tour-2018-rediscover-downtown-johnstown-tickets-44121075324  A limited number of tickets will be sold.\n• The tour begins at the Holiday Inn (250 Market Street\, Johnstown\, PA 15901). This is where all participants will check in and pick up their lanyard and map.\n• The first participants to check in at the Holiday Inn will receive a free event t-shirt. Limited quantity available\, first come\, first serve!\n• Each participant will have access to the specials and samples each venue has to offer which will best exemplify their business.\n• Participants will need to visit a specific number of businesses on the tour to be eligible for the grand prize\, The Ultimate Downtown Experience Basket\, including many gift cards for local Downtown establishments.\n• Participants will vote for their favorite businesses: (Best Atmosphere\, Appetizer\, Drink Special\, Best Hidden Gem\, and Overall Experience). \nFREE Shuttle services will be provided by McIlwain Charters\, Inc. & Designated Driver LLC.  Allowing attendees to visit even more amazing venues in historic downtown Johnstown. \nAll proceeds will be used to implement Downtown Johnstown beautification and promotion activities. On behalf of the Downtown Partnership we strongly encourage your support and participation in this event as we continue to grow and strengthen our Central Business District. \n 
URL:https://1stsummitarena.com/event/taste-tour-rediscover-downtown-2/
CATEGORIES:Entertainment,Food and Drink
ATTACH;FMTTYPE=:
END:VEVENT
END:VCALENDAR