BEGIN:VCALENDAR
VERSION:2.0
PRODID:-//1ST SUMMIT ARENA @ Cambria County War Memorial - ECPv6.15.20//NONSGML v1.0//EN
CALSCALE:GREGORIAN
METHOD:PUBLISH
X-WR-CALNAME:1ST SUMMIT ARENA @ Cambria County War Memorial
X-ORIGINAL-URL:https://1stsummitarena.com
X-WR-CALDESC:Events for 1ST SUMMIT ARENA @ Cambria County War Memorial
REFRESH-INTERVAL;VALUE=DURATION:PT1H
X-Robots-Tag:noindex
X-PUBLISHED-TTL:PT1H
BEGIN:VTIMEZONE
TZID:America/Detroit
BEGIN:DAYLIGHT
TZOFFSETFROM:-0500
TZOFFSETTO:-0400
TZNAME:EDT
DTSTART:20170312T070000
END:DAYLIGHT
BEGIN:STANDARD
TZOFFSETFROM:-0400
TZOFFSETTO:-0500
TZNAME:EST
DTSTART:20171105T060000
END:STANDARD
BEGIN:DAYLIGHT
TZOFFSETFROM:-0500
TZOFFSETTO:-0400
TZNAME:EDT
DTSTART:20180311T070000
END:DAYLIGHT
BEGIN:STANDARD
TZOFFSETFROM:-0400
TZOFFSETTO:-0500
TZNAME:EST
DTSTART:20181104T060000
END:STANDARD
BEGIN:DAYLIGHT
TZOFFSETFROM:-0500
TZOFFSETTO:-0400
TZNAME:EDT
DTSTART:20190310T070000
END:DAYLIGHT
BEGIN:STANDARD
TZOFFSETFROM:-0400
TZOFFSETTO:-0500
TZNAME:EST
DTSTART:20191103T060000
END:STANDARD
END:VTIMEZONE
BEGIN:VEVENT
DTSTART;TZID=America/Detroit:20180210T193000
DTEND;TZID=America/Detroit:20180210T230000
DTSTAMP:20260425T194118
CREATED:20171110T160637Z
LAST-MODIFIED:20171110T160637Z
UID:6372-1518291000-1518303600@1stsummitarena.com
SUMMARY:Luke Combs - Don't Tempt Me With A Good Time Tour
DESCRIPTION:[vc_row][vc_column][vc_column_text]With gritty\, grizzled vocals\, brazen songwriting talent and one hell of a live show\, River House Artists/Columbia Nashville’s Luke Combs stormed onto country music landscape as a force to be reckoned with. Named a 2017 Artist To Watch by Amazon Music\, Billboard\, Bobby Bones\, CMT\, Huffington Post\, Nashville Lifestyles\, Pandora & Rolling Stone\, the 27 year-old Asheville\, North Carolina native released his debut This One’s For You\, on June and opened with 43\,000 total activity in sales & consumption\, making it the largest album debut from a new country artist in 2017. Heralded as a dynamic debut album (Entertainment Weekly) and “one of the most anticipated albums of the year” (Rolling Stone)\, This One’s For You debuted at No. 1 on the Billboard Country Albums chart and No. 5 on the Billboard Top 200 chart. Combs’ debut smash PLATINUM-certified radio single “Hurricane” has quickly become a staple anthem for country fans\, amassing over 100 million streams and reaching No. 1 on SiriusXM’s The Highway. \nCombs second single to Country radio\, “When It Rains It Pours”\, is hitting radio airwaves now. After attending Appalachian State\, Combs\, a true road warrior\, built his avid fan base\, delivering over 250 rowdy\, hold-nothing-back shows per year. By the time Combs followed his calling to Nashville\, Tennessee\, he had an army of fans behind him\, three self-released EPs and a set list full of songs that are true\, authentic and platform his signature modern throwback sound. \nCombs joins Brantley Gilbert on his cross-country Devil Don’t Sleep Tour until September 2017 and takes the stage at the nation’s largest summer festivals including Bonnaroo Music & Arts Festival\, Stagecoach and Tortuga. \nFor more information:\nwww.lukecombs.com[/vc_column_text][/vc_column][/vc_row][vc_row][vc_column][vc_single_image image=”7103″ img_size=”full” alignment=”center” onclick=”img_link_large” fullwidth_image=”true”][vc_column_text] \nSave our directional map as an IMAGE file or as a PDF file to your phone or print it out to easily find your way around\n1ST SUMMIT ARENA @ Cambria County War Memorial! \n[/vc_column_text][/vc_column][/vc_row]
URL:https://1stsummitarena.com/event/luke-combs/
CATEGORIES:Music
ATTACH;FMTTYPE=:
END:VEVENT
END:VCALENDAR