BEGIN:VCALENDAR
VERSION:2.0
PRODID:-//1ST SUMMIT ARENA @ Cambria County War Memorial - ECPv6.15.20//NONSGML v1.0//EN
CALSCALE:GREGORIAN
METHOD:PUBLISH
X-ORIGINAL-URL:https://1stsummitarena.com
X-WR-CALDESC:Events for 1ST SUMMIT ARENA @ Cambria County War Memorial
REFRESH-INTERVAL;VALUE=DURATION:PT1H
X-Robots-Tag:noindex
X-PUBLISHED-TTL:PT1H
BEGIN:VTIMEZONE
TZID:America/New_York
BEGIN:DAYLIGHT
TZOFFSETFROM:-0500
TZOFFSETTO:-0400
TZNAME:EDT
DTSTART:20170312T070000
END:DAYLIGHT
BEGIN:STANDARD
TZOFFSETFROM:-0400
TZOFFSETTO:-0500
TZNAME:EST
DTSTART:20171105T060000
END:STANDARD
BEGIN:DAYLIGHT
TZOFFSETFROM:-0500
TZOFFSETTO:-0400
TZNAME:EDT
DTSTART:20180311T070000
END:DAYLIGHT
BEGIN:STANDARD
TZOFFSETFROM:-0400
TZOFFSETTO:-0500
TZNAME:EST
DTSTART:20181104T060000
END:STANDARD
BEGIN:DAYLIGHT
TZOFFSETFROM:-0500
TZOFFSETTO:-0400
TZNAME:EDT
DTSTART:20190310T070000
END:DAYLIGHT
BEGIN:STANDARD
TZOFFSETFROM:-0400
TZOFFSETTO:-0500
TZNAME:EST
DTSTART:20191103T060000
END:STANDARD
END:VTIMEZONE
BEGIN:VEVENT
DTSTART;TZID=America/New_York:20180422T170000
DTEND;TZID=America/New_York:20180422T200000
DTSTAMP:20260425T164226
CREATED:20180301T004317Z
LAST-MODIFIED:20180301T004317Z
UID:7247-1524416400-1524427200@1stsummitarena.com
SUMMARY:WWE NXT
DESCRIPTION:[vc_row][vc_column][vc_column_text]WWE NXT heads to Johnstown for one night of LIVE action for the FIRST time ever! See the likes of NXT Champion Aleister Black\, NEXT Women’s Champion Shayna Baszler\, Kassius Ohno\, Ricochet\, Velveteen Dream\, EC3\, Bianca Bel Air\, and many more! \nTickets go on sale Friday\, March 2nd through all Ticketmaster outlets and in person at the 1ST SUMMIT ARENA Box Office. Tickets will range from $20 to $75\, plus applicable fees. \nDoors will open at 3:00 PM on Sunday\, April 22nd\, 2018 and the event will begin at 5:00 PM. \nPROHIBITED ITEMS \n\n The following items are prohibited and not limited to the following at all WWE events:\nBags and Briefcases\nBackpacks\nWomens purses. Small clutch bags are allowed\nVideo Cameras or Recording Devices\nLaser Pointers or Noise Makers\nWeapons of any kind\nAlcoholic Beverages\, Illegal Drugs or Paraphernalia\nSelfie Sticks\nLap Top Computers or Tablets\nCoolers\nLuggage of any kind\nCamera Bags\nMasks (Only WWE brand masks will be permitted)\n\n[/vc_column_text][vc_column_text]LIMITED SEATS REMAIN – CLICK HERE TO PURCHASE[/vc_column_text][/vc_column][/vc_row][vc_row][vc_column][/vc_column][/vc_row][vc_row][vc_column][vc_single_image image=”7107″ img_size=”full” alignment=”center” fullwidth_image=”true”][vc_column_text] \nSave our directional map as an IMAGE file or as a PDF file to your phone or print it out to easily find your way around\n1ST SUMMIT ARENA @ Cambria County War Memorial! \n[/vc_column_text][/vc_column][/vc_row]
URL:https://1stsummitarena.com/event/wwe-nxt/
CATEGORIES:Music
ATTACH;FMTTYPE=:
END:VEVENT
END:VCALENDAR