BEGIN:VCALENDAR
VERSION:2.0
PRODID:-//1ST SUMMIT ARENA @ Cambria County War Memorial - ECPv6.15.20//NONSGML v1.0//EN
CALSCALE:GREGORIAN
METHOD:PUBLISH
X-ORIGINAL-URL:https://1stsummitarena.com
X-WR-CALDESC:Events for 1ST SUMMIT ARENA @ Cambria County War Memorial
REFRESH-INTERVAL;VALUE=DURATION:PT1H
X-Robots-Tag:noindex
X-PUBLISHED-TTL:PT1H
BEGIN:VTIMEZONE
TZID:America/New_York
BEGIN:DAYLIGHT
TZOFFSETFROM:-0500
TZOFFSETTO:-0400
TZNAME:EDT
DTSTART:20170312T070000
END:DAYLIGHT
BEGIN:STANDARD
TZOFFSETFROM:-0400
TZOFFSETTO:-0500
TZNAME:EST
DTSTART:20171105T060000
END:STANDARD
BEGIN:DAYLIGHT
TZOFFSETFROM:-0500
TZOFFSETTO:-0400
TZNAME:EDT
DTSTART:20180311T070000
END:DAYLIGHT
BEGIN:STANDARD
TZOFFSETFROM:-0400
TZOFFSETTO:-0500
TZNAME:EST
DTSTART:20181104T060000
END:STANDARD
BEGIN:DAYLIGHT
TZOFFSETFROM:-0500
TZOFFSETTO:-0400
TZNAME:EDT
DTSTART:20190310T070000
END:DAYLIGHT
BEGIN:STANDARD
TZOFFSETFROM:-0400
TZOFFSETTO:-0500
TZNAME:EST
DTSTART:20191103T060000
END:STANDARD
END:VTIMEZONE
BEGIN:VEVENT
DTSTART;VALUE=DATE:20180803
DTEND;VALUE=DATE:20180805
DTSTAMP:20260425T113030
CREATED:20171226T043252Z
LAST-MODIFIED:20171226T043252Z
UID:6771-1533254400-1533427199@1stsummitarena.com
SUMMARY:2018 AmeriServ Flood City Music Festival
DESCRIPTION:[vc_row][vc_column][vc_row_inner][vc_column_inner][vc_single_image image=”5266″ img_size=”full” alignment=”center” fullwidth_image=”true”][/vc_column_inner][/vc_row_inner][vc_row_inner][vc_column_inner][vc_column_text]The AmeriServ Flood City Music Festival is a celebration of American music attracting thousands of enthusiastic music fans to Johnstown\, PA every summer!2-day passes and Oilhouse (VIP) passes are now on sale! 2018 Artists include Blues Traveler\, The Devon Allman Project ft. Duane Betts\, Pure Prairie League\, Andy Frasco & The U.N.\, The Hillbilly Way\, Amelia Eisenhauer and the Peruvian Farm Girls\, Paul Luc\, Jakob’s Ferry Stragglers\, Neon Swing X-Perience\, Striped Maple Hollow\, Jazz Trip and Jazz in Your Face![/vc_column_text][/vc_column_inner][/vc_row_inner][vc_single_image image=”6774″ img_size=”full” fullwidth_image=”true”][vc_row_inner][vc_column_inner width=”1/3″][vc_single_image image=”6777″ img_size=”full” fullwidth_image=”true”][vc_single_image image=”8189″ fullwidth_image=”true”][/vc_column_inner][vc_column_inner width=”1/3″][vc_single_image image=”6776″ img_size=”full” fullwidth_image=”true”][vc_single_image image=”8190″ fullwidth_image=”true”][/vc_column_inner][vc_column_inner width=”1/3″][vc_single_image image=”6778″ img_size=”full” fullwidth_image=”true”][/vc_column_inner][/vc_row_inner][/vc_column][/vc_row]
URL:https://1stsummitarena.com/event/2018-ameriserv-flood-city-music-festival/
CATEGORIES:Music
ATTACH;FMTTYPE=:
END:VEVENT
END:VCALENDAR