BEGIN:VCALENDAR
VERSION:2.0
PRODID:-//1ST SUMMIT ARENA @ Cambria County War Memorial - ECPv6.15.20//NONSGML v1.0//EN
CALSCALE:GREGORIAN
METHOD:PUBLISH
X-ORIGINAL-URL:https://1stsummitarena.com
X-WR-CALDESC:Events for 1ST SUMMIT ARENA @ Cambria County War Memorial
REFRESH-INTERVAL;VALUE=DURATION:PT1H
X-Robots-Tag:noindex
X-PUBLISHED-TTL:PT1H
BEGIN:VTIMEZONE
TZID:America/New_York
BEGIN:DAYLIGHT
TZOFFSETFROM:-0500
TZOFFSETTO:-0400
TZNAME:EDT
DTSTART:20180311T070000
END:DAYLIGHT
BEGIN:STANDARD
TZOFFSETFROM:-0400
TZOFFSETTO:-0500
TZNAME:EST
DTSTART:20181104T060000
END:STANDARD
BEGIN:DAYLIGHT
TZOFFSETFROM:-0500
TZOFFSETTO:-0400
TZNAME:EDT
DTSTART:20190310T070000
END:DAYLIGHT
BEGIN:STANDARD
TZOFFSETFROM:-0400
TZOFFSETTO:-0500
TZNAME:EST
DTSTART:20191103T060000
END:STANDARD
BEGIN:DAYLIGHT
TZOFFSETFROM:-0500
TZOFFSETTO:-0400
TZNAME:EDT
DTSTART:20200308T070000
END:DAYLIGHT
BEGIN:STANDARD
TZOFFSETFROM:-0400
TZOFFSETTO:-0500
TZNAME:EST
DTSTART:20201101T060000
END:STANDARD
END:VTIMEZONE
BEGIN:VEVENT
DTSTART;TZID=America/New_York:20190216T193000
DTEND;TZID=America/New_York:20190216T223000
DTSTAMP:20260422T192859
CREATED:20181105T150007Z
LAST-MODIFIED:20181105T150007Z
UID:8662-1550345400-1550356200@1stsummitarena.com
SUMMARY:Justin Moore
DESCRIPTION:Justin Moore has recorded seven #1 singles\, 15 top ten hits\, one gold\, and two platinum album. From classic hits\, such as “Small Town USA”\, to his recent #1 single “Somebody Else Will”\, Justin Moore has become one of the few artists to churn out a decade of hit songs while staying true to traditional country roots. Joining Justin is Texas native\, Cody Johnson\, who caught the attention of Warner Music Nashville executives with the independent release of two top ten albums and accumulating 300 million on-demand streams. His first WMN album\, Ain’t Nothin to It\, is scheduled for release on January 18th\, 2019. The first single\, “On My Way to You”\, has been released to radio and is currently at #34 on the country music charts. Rounding out the bill will be platinum selling song writer\, Eric Paslay. On Saturday\, February 16th\, the three will take the stage at 1st Summit Arena @ CCWM for two and ½ hours of high energy and powerful country music. Tickets will go on-sale Friday\, November 16th at 10am and be available at the 1st Summit Arena Box Office\, by phone at 800-745-3000\, and online at www.Ticketmaster.com.
URL:https://1stsummitarena.com/event/justin-moore/
CATEGORIES:Entertainment,Music
ATTACH;FMTTYPE=:
END:VEVENT
END:VCALENDAR