BEGIN:VCALENDAR
VERSION:2.0
PRODID:-//1ST SUMMIT ARENA @ Cambria County War Memorial - ECPv6.15.20//NONSGML v1.0//EN
CALSCALE:GREGORIAN
METHOD:PUBLISH
X-ORIGINAL-URL:https://1stsummitarena.com
X-WR-CALDESC:Events for 1ST SUMMIT ARENA @ Cambria County War Memorial
REFRESH-INTERVAL;VALUE=DURATION:PT1H
X-Robots-Tag:noindex
X-PUBLISHED-TTL:PT1H
BEGIN:VTIMEZONE
TZID:America/New_York
BEGIN:DAYLIGHT
TZOFFSETFROM:-0500
TZOFFSETTO:-0400
TZNAME:EDT
DTSTART:20180311T070000
END:DAYLIGHT
BEGIN:STANDARD
TZOFFSETFROM:-0400
TZOFFSETTO:-0500
TZNAME:EST
DTSTART:20181104T060000
END:STANDARD
BEGIN:DAYLIGHT
TZOFFSETFROM:-0500
TZOFFSETTO:-0400
TZNAME:EDT
DTSTART:20190310T070000
END:DAYLIGHT
BEGIN:STANDARD
TZOFFSETFROM:-0400
TZOFFSETTO:-0500
TZNAME:EST
DTSTART:20191103T060000
END:STANDARD
BEGIN:DAYLIGHT
TZOFFSETFROM:-0500
TZOFFSETTO:-0400
TZNAME:EDT
DTSTART:20200308T070000
END:DAYLIGHT
BEGIN:STANDARD
TZOFFSETFROM:-0400
TZOFFSETTO:-0500
TZNAME:EST
DTSTART:20201101T060000
END:STANDARD
END:VTIMEZONE
BEGIN:VEVENT
DTSTART;TZID=America/New_York:20190313T190000
DTEND;TZID=America/New_York:20190313T220000
DTSTAMP:20260422T180019
CREATED:20190125T232221Z
LAST-MODIFIED:20190125T232221Z
UID:9336-1552503600-1552514400@1stsummitarena.com
SUMMARY:COLE SWINDELL with special guest Josh Gallagher
DESCRIPTION:[vc_row][vc_column][vc_column_text] \nCole Swindell\, a Platinum-selling recording artist and record-breaking 11-time No. 1 singer/songwriter\, released his third album\, “All of It”\, for Warner Bros. Records/Warner Music Nashville in 2018 and it debuted at No.1 on the Billboard Country album chart and No.7 on Billboard Top 200. The first single “Break Up In The End” became his 8th No. 1 career single as solo artist. “Break Up In the End” was recently nominated for a Grammy for Best Country Song and was named one of the best country songs of 2018 by Amazon\, Spotify\, Billboard\, You Tube and Whiskey Riff among others. The Georgia native recently debuted his current single “Love You Too Late”. \nHits songs include; “Chillin It”\, “You Should Be Here”\, “Middle of a Memory”\, “Hope You Get Lonely Tonight”\, “Ain’t Worth the Whiskey” and “Let Me See Ya’ Girl”…. \nTickets go on sale Friday\, February 1st at 10:00a through Ticketmaster.com and in-person at the 1ST SUMMIT ARENA Box Office. \n \n[/vc_column_text][/vc_column][/vc_row][vc_row][vc_column][vc_single_image image=”9590″ img_size=”160×133″ alignment=”center”][vc_column_text] \nJOSH GALLAGHER to Open for Cole Swindell\nTwo days prior to his new EP release on March 15th\, Josh Gallagher will be performing live at 1ST SUMMIT ARENA\, opening for Cole Swindell on March 13th! \n[/vc_column_text][/vc_column][/vc_row]
URL:https://1stsummitarena.com/event/cole-swindell/
CATEGORIES:Entertainment,Music
ATTACH;FMTTYPE=:
END:VEVENT
END:VCALENDAR