BEGIN:VCALENDAR
VERSION:2.0
PRODID:-//1ST SUMMIT ARENA @ Cambria County War Memorial - ECPv6.15.20//NONSGML v1.0//EN
CALSCALE:GREGORIAN
METHOD:PUBLISH
X-WR-CALNAME:1ST SUMMIT ARENA @ Cambria County War Memorial
X-ORIGINAL-URL:https://1stsummitarena.com
X-WR-CALDESC:Events for 1ST SUMMIT ARENA @ Cambria County War Memorial
REFRESH-INTERVAL;VALUE=DURATION:PT1H
X-Robots-Tag:noindex
X-PUBLISHED-TTL:PT1H
BEGIN:VTIMEZONE
TZID:America/Detroit
BEGIN:DAYLIGHT
TZOFFSETFROM:-0500
TZOFFSETTO:-0400
TZNAME:EDT
DTSTART:20170312T070000
END:DAYLIGHT
BEGIN:STANDARD
TZOFFSETFROM:-0400
TZOFFSETTO:-0500
TZNAME:EST
DTSTART:20171105T060000
END:STANDARD
BEGIN:DAYLIGHT
TZOFFSETFROM:-0500
TZOFFSETTO:-0400
TZNAME:EDT
DTSTART:20180311T070000
END:DAYLIGHT
BEGIN:STANDARD
TZOFFSETFROM:-0400
TZOFFSETTO:-0500
TZNAME:EST
DTSTART:20181104T060000
END:STANDARD
BEGIN:DAYLIGHT
TZOFFSETFROM:-0500
TZOFFSETTO:-0400
TZNAME:EDT
DTSTART:20190310T070000
END:DAYLIGHT
BEGIN:STANDARD
TZOFFSETFROM:-0400
TZOFFSETTO:-0500
TZNAME:EST
DTSTART:20191103T060000
END:STANDARD
END:VTIMEZONE
BEGIN:VEVENT
DTSTART;VALUE=DATE:20180503
DTEND;VALUE=DATE:20180505
DTSTAMP:20260421T091442
CREATED:20180412T110011Z
LAST-MODIFIED:20180412T110011Z
UID:7515-1525305600-1525478399@1stsummitarena.com
SUMMARY:Garden Bros Circus
DESCRIPTION:Garden Bros Circus is Back! \nThe all new GARDEN BROS CIRCUS has 3 rings bursting with excitement\, laughs and memories your family will cherish! You’ll see the Human Pyramid\, 6 motorcycles enter the Sphere of Fear\, Crazy Cossack Horse Riders\, Comedy Dogs\, Aerial Daredevils\, Wheel of Death LIVE performing Elephants\, America’s Got Talent Hand Balancing Bow and Arrow plus over 60 performers from 18 countries\, contortionists\, Chinese Acrobats and clowns that even make mom and dad laugh. \nGARDEN BROS CIRCUS is a magical place of fun where families laugh\, gasp\, eat cotton candy and make memories for a lifetime. \n\n\n\n\n5/3/18\nBuy Tickets\n\n\nShowtime: 4:30 pm\nDoors open: 3:30 pm\n\n\n\n  \n\n\n\n5/3/18\nBuy Tickets\n\n\nShowtime: 7:30 pm\nDoors open: 6:30 am
URL:https://1stsummitarena.com/event/garden-bros-circus-2/
CATEGORIES:Entertainment
ATTACH;FMTTYPE=:
END:VEVENT
END:VCALENDAR